BEGIN:VCALENDAR
VERSION:2.0
PRODID:-//Kommunale Koordinierung - ECPv6.15.20//NONSGML v1.0//EN
CALSCALE:GREGORIAN
METHOD:PUBLISH
X-ORIGINAL-URL:https://www.kommunale-koordinierung.com
X-WR-CALDESC:Veranstaltungen für Kommunale Koordinierung
REFRESH-INTERVAL;VALUE=DURATION:PT1H
X-Robots-Tag:noindex
X-PUBLISHED-TTL:PT1H
BEGIN:VTIMEZONE
TZID:Europe/Berlin
BEGIN:DAYLIGHT
TZOFFSETFROM:+0100
TZOFFSETTO:+0200
TZNAME:CEST
DTSTART:20210328T010000
END:DAYLIGHT
BEGIN:STANDARD
TZOFFSETFROM:+0200
TZOFFSETTO:+0100
TZNAME:CET
DTSTART:20211031T010000
END:STANDARD
BEGIN:DAYLIGHT
TZOFFSETFROM:+0100
TZOFFSETTO:+0200
TZNAME:CEST
DTSTART:20220327T010000
END:DAYLIGHT
BEGIN:STANDARD
TZOFFSETFROM:+0200
TZOFFSETTO:+0100
TZNAME:CET
DTSTART:20221030T010000
END:STANDARD
BEGIN:DAYLIGHT
TZOFFSETFROM:+0100
TZOFFSETTO:+0200
TZNAME:CEST
DTSTART:20230326T010000
END:DAYLIGHT
BEGIN:STANDARD
TZOFFSETFROM:+0200
TZOFFSETTO:+0100
TZNAME:CET
DTSTART:20231029T010000
END:STANDARD
END:VTIMEZONE
BEGIN:VEVENT
DTSTART;TZID=Europe/Berlin:20220914T093000
DTEND;TZID=Europe/Berlin:20220914T123000
DTSTAMP:20260423T201825
CREATED:20220801T070832Z
LAST-MODIFIED:20220914T070947Z
UID:38020-1663147800-1663158600@www.kommunale-koordinierung.com
SUMMARY:Offene Sprechstunde der Reha-Beratung am 14.09.
DESCRIPTION:Die Agentur für Arbeit Düsseldorf bietet für Jugendliche mit besonderem Förderbedarf\, zusätzlich zur bekannten allgemeinen Berufsberatung\, die Beratung durch speziell geschulte Reha-Berufsberater*innen an. \nDie offene Sprechstunde der Reha-Beratung findet jeden zweiten Mittwoch im Monat von 09:30-12:30 Uhr im Zentrum für Berufsorientierung und Übergänge statt. \nEltern\, Lehrkräfte und Schülerinnen und Schüler können ohne Anmeldung vorbeikommen und sich vom Reha-Beratungsteam der Agentur für Arbeit beraten lassen. Beim Besuch mit einer Schülergruppe ist eine Voranmeldung sinnvoll\, um im Vorfeld Themen abzusprechen. \nFür Rückfragen steht Ihnen Frau Scheid gern zur Verfügung! \nKontakt Reha-Beratung:\nAgentur für Arbeit Düsseldorf – Team Reha/SB\nDuesseldorf.261-Reha@arbeitsagentur.de
URL:https://www.kommunale-koordinierung.com/event/offene-sprechstunde-der-reha-beratung-am-14-09/
LOCATION:ZBÜ\, Willi-Becker-Allee 10\, Düsseldorf\, 40227\, Deutschland
CATEGORIES:BO mit Förderbedarf
END:VEVENT
END:VCALENDAR