BEGIN:VCALENDAR
VERSION:2.0
PRODID:-//Kommunale Koordinierung - ECPv6.15.20//NONSGML v1.0//EN
CALSCALE:GREGORIAN
METHOD:PUBLISH
X-WR-CALNAME:Kommunale Koordinierung
X-ORIGINAL-URL:https://www.kommunale-koordinierung.com
X-WR-CALDESC:Veranstaltungen für Kommunale Koordinierung
REFRESH-INTERVAL;VALUE=DURATION:PT1H
X-Robots-Tag:noindex
X-PUBLISHED-TTL:PT1H
BEGIN:VTIMEZONE
TZID:Europe/Berlin
BEGIN:DAYLIGHT
TZOFFSETFROM:+0100
TZOFFSETTO:+0200
TZNAME:CEST
DTSTART:20210328T010000
END:DAYLIGHT
BEGIN:STANDARD
TZOFFSETFROM:+0200
TZOFFSETTO:+0100
TZNAME:CET
DTSTART:20211031T010000
END:STANDARD
BEGIN:DAYLIGHT
TZOFFSETFROM:+0100
TZOFFSETTO:+0200
TZNAME:CEST
DTSTART:20220327T010000
END:DAYLIGHT
BEGIN:STANDARD
TZOFFSETFROM:+0200
TZOFFSETTO:+0100
TZNAME:CET
DTSTART:20221030T010000
END:STANDARD
BEGIN:DAYLIGHT
TZOFFSETFROM:+0100
TZOFFSETTO:+0200
TZNAME:CEST
DTSTART:20230326T010000
END:DAYLIGHT
BEGIN:STANDARD
TZOFFSETFROM:+0200
TZOFFSETTO:+0100
TZNAME:CET
DTSTART:20231029T010000
END:STANDARD
END:VTIMEZONE
BEGIN:VEVENT
DTSTART;TZID=Europe/Berlin:20220912T100000
DTEND;TZID=Europe/Berlin:20220912T140000
DTSTAMP:20260423T184449
CREATED:20220811T095113Z
LAST-MODIFIED:20220811T095203Z
UID:37205-1662976800-1662991200@www.kommunale-koordinierung.com
SUMMARY:Ausbildung 2022 - Da geht noch was! Open-Air-Ausbildungsbörse der Agentur für Arbeit Düsseldorf
DESCRIPTION:Für das aktuelle Ausbildungsjahr sind noch über 1.000 Ausbildungsstellen frei! Komm vorbei zur Open-Air-Ausbildungsbörse der Agentur für Arbeit Düsseldorf! \nDas bietet dir die Börse: \n\nBeratung zu passenden Berufen und dem Bewerbungsprozedere\nBewerbungsunterlagen-Check\nGespräche mit Berufsberater*innen und Arbeitgeber-Expert*innen\n\nTipp: Bringt direkt deine Bewerbungsunterlagen mit! \nDie Veranstaltung findet draußen auf dem Parkplatz der Agentur für Arbeit Düsseldorf statt! Du findest ihn direkt am Beratungscenter hinter dem Haus (Ivo-Beucker-Straße 15). \nBahnhaltestelle: Schlüterstr. / Arbeitsagentur
URL:https://www.kommunale-koordinierung.com/event/ausbildung-2022-da-geht-noch-was-open-air-ausbildungsboerse-der-agentur-fuer-arbeit-duesseldorf/
LOCATION:Parkplatz der Agentur für Arbeit Düsseldorf\, Ivo-Beucker-Str. 15\, Düsseldorf\, 40237\, Deutschland
CATEGORIES:Berufliche Orientierung,Eltern & Teens,Messe
END:VEVENT
END:VCALENDAR