BEGIN:VCALENDAR
VERSION:2.0
PRODID:-//Kommunale Koordinierung - ECPv6.15.20//NONSGML v1.0//EN
CALSCALE:GREGORIAN
METHOD:PUBLISH
X-WR-CALNAME:Kommunale Koordinierung
X-ORIGINAL-URL:https://www.kommunale-koordinierung.com
X-WR-CALDESC:Veranstaltungen für Kommunale Koordinierung
REFRESH-INTERVAL;VALUE=DURATION:PT1H
X-Robots-Tag:noindex
X-PUBLISHED-TTL:PT1H
BEGIN:VTIMEZONE
TZID:Europe/Berlin
BEGIN:DAYLIGHT
TZOFFSETFROM:+0100
TZOFFSETTO:+0200
TZNAME:CEST
DTSTART:20210328T010000
END:DAYLIGHT
BEGIN:STANDARD
TZOFFSETFROM:+0200
TZOFFSETTO:+0100
TZNAME:CET
DTSTART:20211031T010000
END:STANDARD
BEGIN:DAYLIGHT
TZOFFSETFROM:+0100
TZOFFSETTO:+0200
TZNAME:CEST
DTSTART:20220327T010000
END:DAYLIGHT
BEGIN:STANDARD
TZOFFSETFROM:+0200
TZOFFSETTO:+0100
TZNAME:CET
DTSTART:20221030T010000
END:STANDARD
BEGIN:DAYLIGHT
TZOFFSETFROM:+0100
TZOFFSETTO:+0200
TZNAME:CEST
DTSTART:20230326T010000
END:DAYLIGHT
BEGIN:STANDARD
TZOFFSETFROM:+0200
TZOFFSETTO:+0100
TZNAME:CET
DTSTART:20231029T010000
END:STANDARD
END:VTIMEZONE
BEGIN:VEVENT
DTSTART;TZID=Europe/Berlin:20220908T140000
DTEND;TZID=Europe/Berlin:20220908T160000
DTSTAMP:20260423T214834
CREATED:20220817T134816Z
LAST-MODIFIED:20220817T135120Z
UID:37362-1662645600-1662652800@www.kommunale-koordinierung.com
SUMMARY:StuBo-Arbeitskreis der Gesamtschulen am 08.09
DESCRIPTION:Wir laden alle Düsseldorfer Gesamtschulen herzlich zur 1. StuBo-Arbeitskreissitzung im Schuljahr 2022/23 ein. \nOrt:\nStiftung PRO AUSBILDUNG\nAchenbachstr. 28\n40237 Düsseldorf \nBitte melden Sie sich unten zu der Veranstaltung an. \nOffizielle Einladung \nBei Fragen wenden Sie sich bitte an:\nUte Scheid\nTelefon: 0211 892194\nE-Mail: ute.scheid@duesseldorf.de \nDer Arbeitskreis ist eine gemeinsame Veranstaltung der Kommunalen Koordinierung Düsseldorf und des Kompetenzzentrums Berufliche Orientierung mit der Schulaufsicht der Landeshauptstadt Düsseldorf. \nVorname *Nachname *Schule/Institution *E-Mail Adresse *GDPR *Ja\, ich bin mit den Datenschutzbestimmungen einverstanden.Nachricht senden
URL:https://www.kommunale-koordinierung.com/event/stubo-arbeitskreis-der-gesamtschulen-am-08-09/
LOCATION:Stiftung PRO AUSBILDUNG\, Achenbachstr. 28\, Düsseldorf\, 40237
CATEGORIES:Berufliche Orientierung,Kommunale Koordinierungsstellen,Lehrkräfte,StuBo-Arbeitskreis,StuBos
END:VEVENT
BEGIN:VEVENT
DTSTART;TZID=Europe/Berlin:20220908T150000
DTEND;TZID=Europe/Berlin:20220908T200000
DTSTAMP:20260423T214836
CREATED:20220804T092948Z
LAST-MODIFIED:20220804T092948Z
UID:36975-1662649200-1662667200@www.kommunale-koordinierung.com
SUMMARY:Pop-Up-Store in den Düsseldorfer Arcaden: Ausbildung in Deutschland Beratungstag für Geflüchtete
DESCRIPTION:Du möchtest eine Ausbildung in Deutschland machen? Du hast Fragen zu den unterschiedlichen Ausbildungsberufen oder benötigst Hilfe beim Schreiben deiner Bewerbung? Vielleicht hast du auch schon eine Ausbildung im Ausland gemacht und fragst dich\, ob man diese anerkennen kann? Lass dich beraten!\nKeine Anmeldung notwendig – komm einfach im Pop-Up-Store vorbei.\nBeratungsinstitutionen: Agentur für Arbeit Düsseldorf\, Handwerkskammer Düsseldorf\, Industrie- und Handelskammer zu Düsseldorf
URL:https://www.kommunale-koordinierung.com/event/pop-up-store-in-den-duesseldorfer-arcaden-ausbildung-in-deutschland-beratungstag-fuer-gefluechtete-2/
LOCATION:Düsseldorfer Arcaden\, Friedrichstraße 133\, Düsseldorf\, 40217
CATEGORIES:Berufliche Orientierung,Eltern & Teens,Messe,Schulen,StuBos
END:VEVENT
END:VCALENDAR