BEGIN:VCALENDAR
VERSION:2.0
PRODID:-//Kommunale Koordinierung - ECPv6.15.20//NONSGML v1.0//EN
CALSCALE:GREGORIAN
METHOD:PUBLISH
X-WR-CALNAME:Kommunale Koordinierung
X-ORIGINAL-URL:https://www.kommunale-koordinierung.com
X-WR-CALDESC:Veranstaltungen für Kommunale Koordinierung
REFRESH-INTERVAL;VALUE=DURATION:PT1H
X-Robots-Tag:noindex
X-PUBLISHED-TTL:PT1H
BEGIN:VTIMEZONE
TZID:Europe/Berlin
BEGIN:DAYLIGHT
TZOFFSETFROM:+0100
TZOFFSETTO:+0200
TZNAME:CEST
DTSTART:20210328T010000
END:DAYLIGHT
BEGIN:STANDARD
TZOFFSETFROM:+0200
TZOFFSETTO:+0100
TZNAME:CET
DTSTART:20211031T010000
END:STANDARD
BEGIN:DAYLIGHT
TZOFFSETFROM:+0100
TZOFFSETTO:+0200
TZNAME:CEST
DTSTART:20220327T010000
END:DAYLIGHT
BEGIN:STANDARD
TZOFFSETFROM:+0200
TZOFFSETTO:+0100
TZNAME:CET
DTSTART:20221030T010000
END:STANDARD
BEGIN:DAYLIGHT
TZOFFSETFROM:+0100
TZOFFSETTO:+0200
TZNAME:CEST
DTSTART:20230326T010000
END:DAYLIGHT
BEGIN:STANDARD
TZOFFSETFROM:+0200
TZOFFSETTO:+0100
TZNAME:CET
DTSTART:20231029T010000
END:STANDARD
END:VTIMEZONE
BEGIN:VEVENT
DTSTART;TZID=Europe/Berlin:20220903T100000
DTEND;TZID=Europe/Berlin:20220903T160000
DTSTAMP:20260423T184547
CREATED:20211014T095140Z
LAST-MODIFIED:20211014T095140Z
UID:25789-1662199200-1662220800@www.kommunale-koordinierung.com
SUMMARY:Stuzubi Köln - Karrieremesse für Ausbildung & Studium
DESCRIPTION:Was soll ich nach dem Abschluss machen? Eine Ausbildung?\nOder besser ein Studium?\nInformier‘ dich vor Ort und finde deinen Ausbildungs- oder Studienplatz in Köln und Umgebung. \nBei der Stuzubi erwarten dich zahlreiche Hochschulen und Ausbildungsbetriebe aus der Region. \nZudem kannst du einen Orientierungstest mit Matching machen. \nWeitere Infos gibt es unter:\nhttps://stuzubi.de/messen/koeln
URL:https://www.kommunale-koordinierung.com/event/stuzubi-koeln-karrieremesse-fuer-ausbildung-studium/
LOCATION:Palladium Köln\, Schanzenstraße 40\, Köln\, Deutschland
CATEGORIES:Berufliche Orientierung,Eltern & Teens,Messe
END:VEVENT
BEGIN:VEVENT
DTSTART;TZID=Europe/Berlin:20220903T100000
DTEND;TZID=Europe/Berlin:20220903T200000
DTSTAMP:20260423T184547
CREATED:20220804T092248Z
LAST-MODIFIED:20220804T092248Z
UID:36963-1662199200-1662235200@www.kommunale-koordinierung.com
SUMMARY:Pop-Up-Store in den Düsseldorfer Arcaden: Elternsprechtag
DESCRIPTION:Jugendlichen fällt es oft schwer\, sich in dem Angebot von rund 350 Ausbildungsberufen zu orientieren. Nach dem Schulabschluss stellt sich dann die Frage\, wie es weitergehen soll. Als Erziehungsberechtigte sind Sie hier die wichtigen Ansprechpersonen. Wir geben Ihren Tipps wie Sie Ihr Kind optimal bei der Berufswahl begleiten. Lassen Sie sich auch gerne gemeinsam mit Ihrem Kind beraten und erleben Sie unterschiedliche Berufsbilder live.\nKeine Anmeldung notwendig – kommen Sie einfach im Pop-Up-Store vorbei.\nBeratungsinstitutionen: Agentur für Arbeit Düsseldorf\, Handwerkskammer Düsseldorf\, Industrie- und Handelskammer zu Düsseldorf
URL:https://www.kommunale-koordinierung.com/event/pop-up-store-in-den-duesseldorfer-arcaden-elternsprechtag-2/
LOCATION:Düsseldorfer Arcaden\, Friedrichstraße 133\, Düsseldorf\, 40217
CATEGORIES:Berufliche Orientierung,Eltern & Teens,Lehrkräfte,Messe,Schulen,StuBos
END:VEVENT
END:VCALENDAR