BEGIN:VCALENDAR
VERSION:2.0
PRODID:-//Kommunale Koordinierung - ECPv6.15.20//NONSGML v1.0//EN
CALSCALE:GREGORIAN
METHOD:PUBLISH
X-WR-CALNAME:Kommunale Koordinierung
X-ORIGINAL-URL:https://www.kommunale-koordinierung.com
X-WR-CALDESC:Veranstaltungen für Kommunale Koordinierung
REFRESH-INTERVAL;VALUE=DURATION:PT1H
X-Robots-Tag:noindex
X-PUBLISHED-TTL:PT1H
BEGIN:VTIMEZONE
TZID:Europe/Berlin
BEGIN:DAYLIGHT
TZOFFSETFROM:+0100
TZOFFSETTO:+0200
TZNAME:CEST
DTSTART:20210328T010000
END:DAYLIGHT
BEGIN:STANDARD
TZOFFSETFROM:+0200
TZOFFSETTO:+0100
TZNAME:CET
DTSTART:20211031T010000
END:STANDARD
BEGIN:DAYLIGHT
TZOFFSETFROM:+0100
TZOFFSETTO:+0200
TZNAME:CEST
DTSTART:20220327T010000
END:DAYLIGHT
BEGIN:STANDARD
TZOFFSETFROM:+0200
TZOFFSETTO:+0100
TZNAME:CET
DTSTART:20221030T010000
END:STANDARD
BEGIN:DAYLIGHT
TZOFFSETFROM:+0100
TZOFFSETTO:+0200
TZNAME:CEST
DTSTART:20230326T010000
END:DAYLIGHT
BEGIN:STANDARD
TZOFFSETFROM:+0200
TZOFFSETTO:+0100
TZNAME:CET
DTSTART:20231029T010000
END:STANDARD
END:VTIMEZONE
BEGIN:VEVENT
DTSTART;TZID=Europe/Berlin:20220901T140000
DTEND;TZID=Europe/Berlin:20220901T160000
DTSTAMP:20260423T214833
CREATED:20220812T123316Z
LAST-MODIFIED:20220812T125240Z
UID:37253-1662040800-1662048000@www.kommunale-koordinierung.com
SUMMARY:StuBo-Arbeitskreis der Realschulen am 01.09.22
DESCRIPTION:Wir laden alle Düsseldorfer Realschulen herzlich zur 1. StuBo-Arbeitskreissitzung im Schuljahr 2022/23 ein. \nOrt:\nStiftung PRO AUSBILDUNG\nAchenbachstr. 28\n40237 Düsseldorf \nThema der Sitzung wird u. a. Erfahrungsaustausch\, Optimierung der Organisationsstrukturen sein. Bringen Sie gerne Ihre Unterlagen zur BO-Jahresplanung zur Arbeitskreissitzung mit. \nBitte melden Sie sich unten zu der Veranstaltung an. \n2022-09-01 Einladung StuBo-AK RS \nBei Fragen wenden Sie sich bitte an \nEzgi Yildiz\nTelefon: 0211 6690822\nE-Mail: yildiz@unternehmerschaft.de \nDer Arbeitskreis ist eine gemeinsame Veranstaltung der Kommunalen Koordinierung Düsseldorf und des Kompetenzzentrums Berufliche Orientierung mit der Schulaufsicht der Landeshauptstadt Düsseldorf. \nVorname *Nachname *Schule/Institution *E-Mail Adresse *GDPR *Ja\, ich bin mit den Datenschutzbestimmungen einverstanden.Nachricht senden
URL:https://www.kommunale-koordinierung.com/event/stubo-arbeitskreis-der-realschulen-am-01-09-22/
CATEGORIES:Berufliche Orientierung,Lehrkräfte,StuBo-Arbeitskreis,StuBos
END:VEVENT
BEGIN:VEVENT
DTSTART;TZID=Europe/Berlin:20220901T150000
DTEND;TZID=Europe/Berlin:20220901T200000
DTSTAMP:20260423T214835
CREATED:20220804T091717Z
LAST-MODIFIED:20220804T091717Z
UID:36957-1662044400-1662062400@www.kommunale-koordinierung.com
SUMMARY:Pop-Up-Store in den Düsseldorfer Arcaden: Ausbildung oder Studium? Oder beides? Beratungstag für Abiturient*innen
DESCRIPTION:Ausbildung oder Studium? Eins von beidem reicht dir nicht? Wir informieren dich über das breite Angebot and dualen und trialen Studienprogrammen in Industrie\, Handwerk und Handel.\nKeine Anmeldung notwendig – komm einfach im Pop-Up-Store vorbei.\nBeratungsinstitutionen: Agentur für Arbeit Düsseldorf\, Handwerkskammer Düsseldorf\, Industrie- und Handelskammer zu Düsseldorf
URL:https://www.kommunale-koordinierung.com/event/pop-up-store-in-den-duesseldorfer-arcaden-ausbildung-oder-studium-oder-beides-beratungstag-fuer-abiturientinnen-2/
LOCATION:Düsseldorfer Arcaden\, Friedrichstraße 133\, Düsseldorf\, 40217
CATEGORIES:Berufliche Orientierung,Eltern & Teens,Lehrkräfte,Messe,Schulen,StuBos
END:VEVENT
BEGIN:VEVENT
DTSTART;TZID=Europe/Berlin:20220901T153000
DTEND;TZID=Europe/Berlin:20220901T183000
DTSTAMP:20260423T214835
CREATED:20220804T092123Z
LAST-MODIFIED:20220804T092123Z
UID:36960-1662046200-1662057000@www.kommunale-koordinierung.com
SUMMARY:Pop-Up-Store in den Düsseldorfer Arcaden: Berufsberatung im Erwerbsleben
DESCRIPTION:Du möchtest dich beruflich umorientieren oder hast Fragen zu deiner bestehenden Beschäftigung\, zum beruflichen Wiedereinstieg\, zu Fördermöglichkeiten\, Qualifizierungen oder rund um die Entwicklungen am Arbeitsmarkt? Lass dich beraten!\nKeine Anmeldung notwendig – komm einfach im Pop-Up-Store vorbei.\nBeratungsinstitutionen: Agentur für Arbeit Düsseldorf
URL:https://www.kommunale-koordinierung.com/event/pop-up-store-in-den-duesseldorfer-arcaden-berufsberatung-im-erwerbsleben-5/
LOCATION:Düsseldorfer Arcaden\, Friedrichstraße 133\, Düsseldorf\, 40217
CATEGORIES:Berufliche Orientierung,Eltern & Teens,Lehrkräfte,Schulen,StuBos
END:VEVENT
END:VCALENDAR