BEGIN:VCALENDAR
VERSION:2.0
PRODID:-//Kommunale Koordinierung - ECPv6.15.20//NONSGML v1.0//EN
CALSCALE:GREGORIAN
METHOD:PUBLISH
X-ORIGINAL-URL:https://www.kommunale-koordinierung.com
X-WR-CALDESC:Veranstaltungen für Kommunale Koordinierung
REFRESH-INTERVAL;VALUE=DURATION:PT1H
X-Robots-Tag:noindex
X-PUBLISHED-TTL:PT1H
BEGIN:VTIMEZONE
TZID:Europe/Berlin
BEGIN:DAYLIGHT
TZOFFSETFROM:+0100
TZOFFSETTO:+0200
TZNAME:CEST
DTSTART:20210328T010000
END:DAYLIGHT
BEGIN:STANDARD
TZOFFSETFROM:+0200
TZOFFSETTO:+0100
TZNAME:CET
DTSTART:20211031T010000
END:STANDARD
BEGIN:DAYLIGHT
TZOFFSETFROM:+0100
TZOFFSETTO:+0200
TZNAME:CEST
DTSTART:20220327T010000
END:DAYLIGHT
BEGIN:STANDARD
TZOFFSETFROM:+0200
TZOFFSETTO:+0100
TZNAME:CET
DTSTART:20221030T010000
END:STANDARD
BEGIN:DAYLIGHT
TZOFFSETFROM:+0100
TZOFFSETTO:+0200
TZNAME:CEST
DTSTART:20230326T010000
END:DAYLIGHT
BEGIN:STANDARD
TZOFFSETFROM:+0200
TZOFFSETTO:+0100
TZNAME:CET
DTSTART:20231029T010000
END:STANDARD
END:VTIMEZONE
BEGIN:VEVENT
DTSTART;TZID=Europe/Berlin:20220831T160000
DTEND;TZID=Europe/Berlin:20220831T170000
DTSTAMP:20260423T184601
CREATED:20220819T110352Z
LAST-MODIFIED:20220819T120820Z
UID:37519-1661961600-1661965200@www.kommunale-koordinierung.com
SUMMARY:Online-Infoveranstaltung der Berufsberatung: Last Minute Ausbildung 2022
DESCRIPTION:Last but not least? Wo gibt es noch Ausbildungsstellen? Wie fasse ich meine Bewerbungen zielführend nach? Welche Alternativen zum Wunschberuf gibt es? Diese und andere Fragen klärt die Berufsberatung der Agentur für Arbeit in ihrer Onlineveranstaltung „Last Minute Ausbildung 2022“. Gerne kannst Du Dich mit eigenen Fragen an der Veranstaltung beteiligen. \nHinweise zur Anmeldung:\nDie Einwahl zur Veranstaltung erfolgt über diesen Link: https://web.arbeitsagentur.de/portal/metasuche/suche/veranstaltungen/10000-2000435763-V
URL:https://www.kommunale-koordinierung.com/event/online-infoveranstaltung-der-berufsberatung-last-minute-ausbildung-2022/
LOCATION:Online
CATEGORIES:Berufliche Orientierung,Schulen
END:VEVENT
END:VCALENDAR