BEGIN:VCALENDAR
VERSION:2.0
PRODID:-//Kommunale Koordinierung - ECPv6.15.20//NONSGML v1.0//EN
CALSCALE:GREGORIAN
METHOD:PUBLISH
X-ORIGINAL-URL:https://www.kommunale-koordinierung.com
X-WR-CALDESC:Veranstaltungen für Kommunale Koordinierung
REFRESH-INTERVAL;VALUE=DURATION:PT1H
X-Robots-Tag:noindex
X-PUBLISHED-TTL:PT1H
BEGIN:VTIMEZONE
TZID:Europe/Berlin
BEGIN:DAYLIGHT
TZOFFSETFROM:+0100
TZOFFSETTO:+0200
TZNAME:CEST
DTSTART:20210328T010000
END:DAYLIGHT
BEGIN:STANDARD
TZOFFSETFROM:+0200
TZOFFSETTO:+0100
TZNAME:CET
DTSTART:20211031T010000
END:STANDARD
BEGIN:DAYLIGHT
TZOFFSETFROM:+0100
TZOFFSETTO:+0200
TZNAME:CEST
DTSTART:20220327T010000
END:DAYLIGHT
BEGIN:STANDARD
TZOFFSETFROM:+0200
TZOFFSETTO:+0100
TZNAME:CET
DTSTART:20221030T010000
END:STANDARD
BEGIN:DAYLIGHT
TZOFFSETFROM:+0100
TZOFFSETTO:+0200
TZNAME:CEST
DTSTART:20230326T010000
END:DAYLIGHT
BEGIN:STANDARD
TZOFFSETFROM:+0200
TZOFFSETTO:+0100
TZNAME:CET
DTSTART:20231029T010000
END:STANDARD
END:VTIMEZONE
BEGIN:VEVENT
DTSTART;TZID=Europe/Berlin:20220806T100000
DTEND;TZID=Europe/Berlin:20220806T150000
DTSTAMP:20260423T201807
CREATED:20220804T082538Z
LAST-MODIFIED:20220804T082538Z
UID:36894-1659780000-1659798000@www.kommunale-koordinierung.com
SUMMARY:Pop-Up-Store in den Düsseldorfer Arcaden: It's a match! Sprechstunde der Ausbildungsvermittlung
DESCRIPTION:Achtung – heiße Ausbildungsplätze! Egal\, ob du noch in diesem oder erst im nächsten Jahr in die Ausbildung einsteigen möchtest – hier findest du Praktikums- und Ausbildungsstellen.\nUnser Angebot:\n– Wir überlegen gemeinsam mit dir\, welcher Beruf am besten zu dir passt.\n– Wir geben dir Tipps zu deinen Bewerbungsunterlagen.\n– Wir stellen Kontakt zu passenden Ausbildungsbetrieben her.\nKeine Anmeldung notwendig – komm einfach im Pop-Up-Store vorbei.\nBeratungsinstitutionen: Agentur für Arbeit Düsseldorf\, Handwerkskammer Düsseldorf\, Industrie- und Handelskammer zu Düsseldorf
URL:https://www.kommunale-koordinierung.com/event/pop-up-store-in-den-duesseldorfer-arcaden-its-a-match-sprechstunde-der-ausbildungsvermittlung-2/
LOCATION:Düsseldorfer Arcaden\, Friedrichstraße 133\, Düsseldorf\, 40217
CATEGORIES:Berufliche Orientierung,Eltern & Teens,Lehrkräfte,Messe,Schulen
END:VEVENT
BEGIN:VEVENT
DTSTART;TZID=Europe/Berlin:20220806T100000
DTEND;TZID=Europe/Berlin:20220806T200000
DTSTAMP:20260423T201807
CREATED:20220804T082848Z
LAST-MODIFIED:20220804T082848Z
UID:36899-1659780000-1659816000@www.kommunale-koordinierung.com
SUMMARY:Pop-Up-Store in den Düsseldorfer Arcaden: Tag des Malerhandwerks Branchentag
DESCRIPTION:Teste deine Skills im Malerhandwerk und erfahre Wissenswertes rund um die Ausbildung zum/zur Maler*in. Am Simulator lackieren üben oder die Düsseldorfer Skyline zum Mitnehmen gestalten – beides ist möglich!\nKeine Anmeldung notwendig – komm einfach im Pop-Up-Store vorbei.\nBeratungsinstitutionen: Akademie der Handwerkskammer Düsseldorf
URL:https://www.kommunale-koordinierung.com/event/pop-up-store-in-den-duesseldorfer-arcaden-tag-des-malerhandwerks-branchentag/
LOCATION:Düsseldorfer Arcaden\, Friedrichstraße 133\, Düsseldorf\, 40217
CATEGORIES:Berufliche Orientierung,Eltern & Teens,Lehrkräfte,Messe,Schulen,StuBos
END:VEVENT
END:VCALENDAR