BEGIN:VCALENDAR
VERSION:2.0
PRODID:-//Kommunale Koordinierung - ECPv6.15.20//NONSGML v1.0//EN
CALSCALE:GREGORIAN
METHOD:PUBLISH
X-ORIGINAL-URL:https://www.kommunale-koordinierung.com
X-WR-CALDESC:Veranstaltungen für Kommunale Koordinierung
REFRESH-INTERVAL;VALUE=DURATION:PT1H
X-Robots-Tag:noindex
X-PUBLISHED-TTL:PT1H
BEGIN:VTIMEZONE
TZID:Europe/Berlin
BEGIN:DAYLIGHT
TZOFFSETFROM:+0100
TZOFFSETTO:+0200
TZNAME:CEST
DTSTART:20210328T010000
END:DAYLIGHT
BEGIN:STANDARD
TZOFFSETFROM:+0200
TZOFFSETTO:+0100
TZNAME:CET
DTSTART:20211031T010000
END:STANDARD
BEGIN:DAYLIGHT
TZOFFSETFROM:+0100
TZOFFSETTO:+0200
TZNAME:CEST
DTSTART:20220327T010000
END:DAYLIGHT
BEGIN:STANDARD
TZOFFSETFROM:+0200
TZOFFSETTO:+0100
TZNAME:CET
DTSTART:20221030T010000
END:STANDARD
BEGIN:DAYLIGHT
TZOFFSETFROM:+0100
TZOFFSETTO:+0200
TZNAME:CEST
DTSTART:20230326T010000
END:DAYLIGHT
BEGIN:STANDARD
TZOFFSETFROM:+0200
TZOFFSETTO:+0100
TZNAME:CET
DTSTART:20231029T010000
END:STANDARD
END:VTIMEZONE
BEGIN:VEVENT
DTSTART;TZID=Europe/Berlin:20220711T140000
DTEND;TZID=Europe/Berlin:20220711T160000
DTSTAMP:20260423T215038
CREATED:20211004T091024Z
LAST-MODIFIED:20220715T054428Z
UID:25433-1657548000-1657555200@www.kommunale-koordinierung.com
SUMMARY:Sprechstunde der HWK für Abiturient*innen 11.07.
DESCRIPTION:Die Handwerkskammer Düsseldorf bietet eine Sprechstunde speziell für Abiturient*innen an. Sie können sich zu allen Fragen der handwerklichen Ausbildung\, Ausbildungsverkürzung\, Auslandsaufenthalten und zum trialen Studium (Ausbildung + Meisterfortbildung + BWL-Bachelorstudium) beraten lassen. Abhängig von den aktuellen Kontaktbeschränkungen findet die Sprechstunde telefonisch und/oder vor Ort in der Handwerkskammer Düsseldorf statt. \nAnmeldung unter: 0211 8795-605 oder ann-kathrin.heim@hwk-duesseldorf.de
URL:https://www.kommunale-koordinierung.com/event/sprechstunde-der-hwk-fuer-abiturientinnen-11-07/
CATEGORIES:Berufliche Orientierung,Eltern & Teens
END:VEVENT
END:VCALENDAR