BEGIN:VCALENDAR
VERSION:2.0
PRODID:-//Kommunale Koordinierung - ECPv6.15.20//NONSGML v1.0//EN
CALSCALE:GREGORIAN
METHOD:PUBLISH
X-ORIGINAL-URL:https://www.kommunale-koordinierung.com
X-WR-CALDESC:Veranstaltungen für Kommunale Koordinierung
REFRESH-INTERVAL;VALUE=DURATION:PT1H
X-Robots-Tag:noindex
X-PUBLISHED-TTL:PT1H
BEGIN:VTIMEZONE
TZID:Europe/Berlin
BEGIN:DAYLIGHT
TZOFFSETFROM:+0100
TZOFFSETTO:+0200
TZNAME:CEST
DTSTART:20210328T010000
END:DAYLIGHT
BEGIN:STANDARD
TZOFFSETFROM:+0200
TZOFFSETTO:+0100
TZNAME:CET
DTSTART:20211031T010000
END:STANDARD
BEGIN:DAYLIGHT
TZOFFSETFROM:+0100
TZOFFSETTO:+0200
TZNAME:CEST
DTSTART:20220327T010000
END:DAYLIGHT
BEGIN:STANDARD
TZOFFSETFROM:+0200
TZOFFSETTO:+0100
TZNAME:CET
DTSTART:20221030T010000
END:STANDARD
BEGIN:DAYLIGHT
TZOFFSETFROM:+0100
TZOFFSETTO:+0200
TZNAME:CEST
DTSTART:20230326T010000
END:DAYLIGHT
BEGIN:STANDARD
TZOFFSETFROM:+0200
TZOFFSETTO:+0100
TZNAME:CET
DTSTART:20231029T010000
END:STANDARD
END:VTIMEZONE
BEGIN:VEVENT
DTSTART;VALUE=DATE:20220607
DTEND;VALUE=DATE:20220612
DTSTAMP:20260424T212922
CREATED:20211014T100017Z
LAST-MODIFIED:20220203T071737Z
UID:25794-1654560000-1654991999@www.kommunale-koordinierung.com
SUMMARY:didacta - die Bildungsmesse in Köln
DESCRIPTION:Einblick\, Überblick\, Ausblick – die didacta ist führende Fachmesse und Weiterbildungsveranstaltung für das gesamte Bildungswesen. Von der frühkindlichen Entwicklung\, über die berufliche Bildung bis hin zum lebenslangen Lernen: die Bildungsplattform vereint wie keine andere die gesamte Bandbreite moderner Bildungs- und Lernangebote. \nFreuen Sie sich auf den Austausch mit einem Fachpublikum aus Politik\, Wirtschaft\, Wissenschaft und Gesellschaft. \nWeitere Informationen gibt es unter:\nwww.didacta-koeln.de
URL:https://www.kommunale-koordinierung.com/event/didacta-die-bildungsmesse-in-koeln/
LOCATION:Kölnmesse\, Messeplatz 1\, Köln\, Deutschland
CATEGORIES:Berufliche Orientierung,Eltern & Teens,Lehrkräfte,Messe,Schulen,StuBos
END:VEVENT
BEGIN:VEVENT
DTSTART;VALUE=DATE:20220611
DTEND;VALUE=DATE:20220613
DTSTAMP:20260424T212922
CREATED:20220310T115859Z
LAST-MODIFIED:20230406T064044Z
UID:28684-1654905600-1655078399@www.kommunale-koordinierung.com
SUMMARY:Jobmesse Düsseldorf
DESCRIPTION:2022 findet wieder die beliebte Jobmesse in der Mitsubishi Electric Arena statt. Mit vielen spannenden Vorträgen zur Beruflichen Orientierung und zahlreichen namhaften Aussteller*innen. \nWeitere Informationen gibt es unter:\nhttps://jobmessen.de
URL:https://www.kommunale-koordinierung.com/event/jobmesse-duesseldorf/
LOCATION:Mitsubishi Electric Halle\, Siegburger Str. 15\, Düsseldorf\, 40591\, Deutschland
CATEGORIES:Berufliche Orientierung,Eltern & Teens,Geflüchtete,Messe,StuBos,Studienorientierung
END:VEVENT
BEGIN:VEVENT
DTSTART;TZID=Europe/Berlin:20220611T100000
DTEND;TZID=Europe/Berlin:20220611T150000
DTSTAMP:20260424T212922
CREATED:20220204T091416Z
LAST-MODIFIED:20220204T091416Z
UID:28042-1654941600-1654959600@www.kommunale-koordinierung.com
SUMMARY:Hochschulinformationstag (HIT)
DESCRIPTION:Die Heinrich-Heine-Universität Düsseldorf und die Fachhochschule Düsseldorf informieren zusammen mit weiteren Partnern über die  Studienmöglichkeiten in Düsseldorf und über alles Wissenswerte rund ums Studium. Hierzu gehören u.a. \n\ndie Vorstellung der verschiedenen Studienfächer\nund der Berufsperspektiven nach dem Studium\,\nein Überblick über Forschung und Lehre in Düsseldorf\,\nWissenswertes zur Studienfinanzierung\, Auslandsstudium\, zum Wohnen und Leben am Studienort Düsseldorf\,\ndie Mitwirkungsmöglichkeiten für Studierende in Fachschaften\, im Studierendenparlament und im AStA\, dem Allgemeinen Studierendenausschuss\,\ndie vielfältigen Aktivitäten an Universität und Hochschule Düsseldorf\, die sich rund ums Studium bieten\, vom Hochschulsport über Musik bis hin zum Hochschulradio sowie\nInformationen über die Angebote\, die die Landeshauptstadt Düsseldorf für ihre Studierenden bereit stellt.\n\nEine Anmeldung ist nicht erforderlich. \nDer Hochschulinformationstag (HIT) 2022 findet am 11. Juni 2022 (10 bis 15 Uhr) statt \nAuf dem Campus der Heinrich-Heine-Universität Düsseldorf\nGebäude 22.01 | 23.01 und im Gebäude des Studierenden Service Center (SSC)\nUniversitätsstraße 1\n40225 Düsseldorf
URL:https://www.kommunale-koordinierung.com/event/hochschulinformationstag-hit/
CATEGORIES:Berufliche Orientierung,Eltern & Teens,Messe,Schulen,Studienorientierung
END:VEVENT
END:VCALENDAR