BEGIN:VCALENDAR
VERSION:2.0
PRODID:-//Kommunale Koordinierung - ECPv6.15.20//NONSGML v1.0//EN
CALSCALE:GREGORIAN
METHOD:PUBLISH
X-WR-CALNAME:Kommunale Koordinierung
X-ORIGINAL-URL:https://www.kommunale-koordinierung.com
X-WR-CALDESC:Veranstaltungen für Kommunale Koordinierung
REFRESH-INTERVAL;VALUE=DURATION:PT1H
X-Robots-Tag:noindex
X-PUBLISHED-TTL:PT1H
BEGIN:VTIMEZONE
TZID:Europe/Berlin
BEGIN:DAYLIGHT
TZOFFSETFROM:+0100
TZOFFSETTO:+0200
TZNAME:CEST
DTSTART:20210328T010000
END:DAYLIGHT
BEGIN:STANDARD
TZOFFSETFROM:+0200
TZOFFSETTO:+0100
TZNAME:CET
DTSTART:20211031T010000
END:STANDARD
BEGIN:DAYLIGHT
TZOFFSETFROM:+0100
TZOFFSETTO:+0200
TZNAME:CEST
DTSTART:20220327T010000
END:DAYLIGHT
BEGIN:STANDARD
TZOFFSETFROM:+0200
TZOFFSETTO:+0100
TZNAME:CET
DTSTART:20221030T010000
END:STANDARD
BEGIN:DAYLIGHT
TZOFFSETFROM:+0100
TZOFFSETTO:+0200
TZNAME:CEST
DTSTART:20230326T010000
END:DAYLIGHT
BEGIN:STANDARD
TZOFFSETFROM:+0200
TZOFFSETTO:+0100
TZNAME:CET
DTSTART:20231029T010000
END:STANDARD
END:VTIMEZONE
BEGIN:VEVENT
DTSTART;TZID=Europe/Berlin:20220509T093000
DTEND;TZID=Europe/Berlin:20220509T153000
DTSTAMP:20260425T214958
CREATED:20220301T071711Z
LAST-MODIFIED:20220518T070504Z
UID:28449-1652088600-1652110200@www.kommunale-koordinierung.com
SUMMARY:Schulcontest der Handwerkskammer Düsseldorf
DESCRIPTION:Beim jährlichen Schulcontest der Handwerkskammer Düsseldorf treten vier Schulklassen der 8. Jahrgangsstufe gegeneinander an. Jede Klasse wird durch 5 Schüler*innen und eine Lehrkraft vertreten. Der Gewinnerschule winken 300€ und die Teilnahme am landesweiten Schulcontest am 17. September im Bildungszentrum BGZ Simmerath. \nSo läuft es ab:\nAm 9. Mai kommt ihr zu fünft mit einer Lehrkraft in die Handwerkskammer Düsseldorf. Nach einer kurzen Einführung absolviert ihr 4 Stationen. In jeder Werkstatt bekommt ihr von einem/einer Dozent*in der Meisterschule die Räumlichkeiten und Maschinen gezeigt und absolviert eine handwerkliche Aufgabe. Eure Lehrkraft darf euch dabei helfen. Die Dozent*innen bewerten eure Leistung. Danach wechselt ihr zur nächsten Station. So lernt ihr die Berufe Maler*in\, Anlagenmechaniker*in SHK\, Metallbauer*in und Elektroniker*in kennen. Zwischendurch lädt die Handwerkskammer zu einer Pause in unserer Kantine ein. Am Ende des Tages werden die Ergebnisse ausgewertet und die Gewinnerschule wird prämiert. \nDie Anmeldung läuft über die Lehrkräfte und ist noch bis zum 04. April möglich!
URL:https://www.kommunale-koordinierung.com/event/schulcontest-der-handwerkskammer-duesseldorf/
LOCATION:Handwerkskammer Düsseldorf\, Georg-Schulhoff-Platz 1\, Düsseldorf\, 40221\, Deutschland
CATEGORIES:Berufliche Orientierung,Lehrkräfte,Schulen
END:VEVENT
END:VCALENDAR