BEGIN:VCALENDAR
VERSION:2.0
PRODID:-//Kommunale Koordinierung - ECPv6.15.20//NONSGML v1.0//EN
CALSCALE:GREGORIAN
METHOD:PUBLISH
X-ORIGINAL-URL:https://www.kommunale-koordinierung.com
X-WR-CALDESC:Veranstaltungen für Kommunale Koordinierung
REFRESH-INTERVAL;VALUE=DURATION:PT1H
X-Robots-Tag:noindex
X-PUBLISHED-TTL:PT1H
BEGIN:VTIMEZONE
TZID:Europe/Berlin
BEGIN:DAYLIGHT
TZOFFSETFROM:+0100
TZOFFSETTO:+0200
TZNAME:CEST
DTSTART:20210328T010000
END:DAYLIGHT
BEGIN:STANDARD
TZOFFSETFROM:+0200
TZOFFSETTO:+0100
TZNAME:CET
DTSTART:20211031T010000
END:STANDARD
BEGIN:DAYLIGHT
TZOFFSETFROM:+0100
TZOFFSETTO:+0200
TZNAME:CEST
DTSTART:20220327T010000
END:DAYLIGHT
BEGIN:STANDARD
TZOFFSETFROM:+0200
TZOFFSETTO:+0100
TZNAME:CET
DTSTART:20221030T010000
END:STANDARD
BEGIN:DAYLIGHT
TZOFFSETFROM:+0100
TZOFFSETTO:+0200
TZNAME:CEST
DTSTART:20230326T010000
END:DAYLIGHT
BEGIN:STANDARD
TZOFFSETFROM:+0200
TZOFFSETTO:+0100
TZNAME:CET
DTSTART:20231029T010000
END:STANDARD
END:VTIMEZONE
BEGIN:VEVENT
DTSTART;VALUE=DATE:20220428
DTEND;VALUE=DATE:20220429
DTSTAMP:20260425T215050
CREATED:20211001T090652Z
LAST-MODIFIED:20211001T091246Z
UID:25195-1651104000-1651190399@www.kommunale-koordinierung.com
SUMMARY:Girls'Day
DESCRIPTION:Am Donnerstag\, 28. April 2022\, ist wieder Girls’Day! Ein Tag extra für dich\, an dem du neue Berufe entdecken und dich und deine Fähigkeiten testen kannst. Alle Mädchen* ab der fünften Klasse können mitmachen. \nViele Mädchen interessieren sich für Berufe wie Verkäuferin\, Friseurin oder Kauffrau für Büromanagement. Klar sind das interessante Jobs\, aber hast du auch schon einmal über andere Bereiche nachgedacht? \nAm Girls’Day lernst du Berufe kennen\, in denen bisher meist Männer arbeiten – z. B. Informatikerin\, Industriemechanikerin oder Tischlerin. Hier sind junge Frauen sehr gefragt! \nDer Girls’Day findet 2022 überwiegend digital statt. Das heißt\, du nimmst von deinem Computer aus an einem Girls’Day-Angebot teil. Dabei kannst du z. B. eine 360°-Campustour machen\, eine Werkstatt per Livestream ansehen oder erfahren\, was eine Programmiererin so macht. \nWeitere Infos gibt’s unter:\nwww.girls-day.de
URL:https://www.kommunale-koordinierung.com/event/girlsday/
LOCATION:Online
CATEGORIES:Berufliche Orientierung,Eltern & Teens,Lehrkräfte,Schulen
END:VEVENT
BEGIN:VEVENT
DTSTART;VALUE=DATE:20220428
DTEND;VALUE=DATE:20220429
DTSTAMP:20260425T215050
CREATED:20211001T091210Z
LAST-MODIFIED:20211001T091210Z
UID:25197-1651104000-1651190399@www.kommunale-koordinierung.com
SUMMARY:Boys'Day
DESCRIPTION:Viele Jungen interessieren sich für Berufe wie KFZ-Mechatroniker oder Informatiker. Klar\, das sind interessante Jobs. Aber hast du auch schon über andere Bereiche nachgedacht? \nAm Boys’Day lernst du Berufe kennen\, in denen bisher meist Frauen arbeiten – z. B. Erzieher\, Krankenpfleger\, Grundschullehrer oder Psychologe. Hier sind junge Männer sehr gefragt! Außerdem kannst du am Boys’Day an Workshops zur Berufs- und Lebensplanung teilnehmen. Alle Jungen* ab der fünften Klasse können teilnehmen. \nBeim Boys’Day gibt es auch digitale Angebote. Das heißt\, du nimmst von deinem Computer aus an einem Boys’Day-Angebot teil. Du kannst z. B. eine 360°-Campustour machen\, eine Kita per Livestream sehen oder erfahren\, was man im Beruf „Sofa“ so macht. \nWeitere Infos gibt’s unter:\nwww.boys-day.de
URL:https://www.kommunale-koordinierung.com/event/boysday/
LOCATION:Online
CATEGORIES:Berufliche Orientierung,Eltern & Teens,Schulen
END:VEVENT
BEGIN:VEVENT
DTSTART;VALUE=DATE:20220428
DTEND;VALUE=DATE:20220429
DTSTAMP:20260425T215050
CREATED:20220420T141342Z
LAST-MODIFIED:20220420T141342Z
UID:30276-1651104000-1651190399@www.kommunale-koordinierung.com
SUMMARY:Girls'Day 28. April - noch freie Plätze bei Siemens in vielen Regionen
DESCRIPTION:Für den diesjährigen Girls’Day sind noch digitale Plätze bei der Siemens AG frei. \nHier geht es zur Anmeldung: Girls Day Siemens AG
URL:https://www.kommunale-koordinierung.com/event/girlsday-28-april-noch-freie-plaetze-bei-siemens-in-vielen-regionen/
END:VEVENT
BEGIN:VEVENT
DTSTART;TZID=Europe/Berlin:20220428T183000
DTEND;TZID=Europe/Berlin:20220428T203000
DTSTAMP:20260425T215050
CREATED:20211004T091536Z
LAST-MODIFIED:20220504T063554Z
UID:25439-1651170600-1651177800@www.kommunale-koordinierung.com
SUMMARY:Infoveranstaltung Triales Studium am 28.04.
DESCRIPTION:Das triale Studium verbindet eine Ausbildung im Handwerk mit einer Meisterfortbildung und einem betriebswirtschaftlichen Bachelorstudium. Studierende werden zu Spezialist*innen im Handwerk mit umfangreichem betriebswirtschaftlichen Know-How. Sie sind mit dem Abschluss nach 5 Jahren optimal auf Führungsaufgaben oder eine Selbstständigkeit vorbereitet. In der Informationsveranstaltung der Hochschule Niederrhein erfahren Sie alles zum Ablauf\, den Inhalten und Voraussetzungen des Trialen Studiums. \nAnmeldung per Mail unter:\nrene.steinwartz@hs-niederrhein.de \nMehr Infos unter:\nwww.triales-studium.nrw
URL:https://www.kommunale-koordinierung.com/event/infoveranstaltung-triales-studium-am-28-04/
LOCATION:Online
CATEGORIES:Berufliche Orientierung,Eltern & Teens
END:VEVENT
END:VCALENDAR