BEGIN:VCALENDAR
VERSION:2.0
PRODID:-//Kommunale Koordinierung - ECPv6.15.20//NONSGML v1.0//EN
CALSCALE:GREGORIAN
METHOD:PUBLISH
X-WR-CALNAME:Kommunale Koordinierung
X-ORIGINAL-URL:https://www.kommunale-koordinierung.com
X-WR-CALDESC:Veranstaltungen für Kommunale Koordinierung
REFRESH-INTERVAL;VALUE=DURATION:PT1H
X-Robots-Tag:noindex
X-PUBLISHED-TTL:PT1H
BEGIN:VTIMEZONE
TZID:Europe/Berlin
BEGIN:DAYLIGHT
TZOFFSETFROM:+0100
TZOFFSETTO:+0200
TZNAME:CEST
DTSTART:20210328T010000
END:DAYLIGHT
BEGIN:STANDARD
TZOFFSETFROM:+0200
TZOFFSETTO:+0100
TZNAME:CET
DTSTART:20211031T010000
END:STANDARD
BEGIN:DAYLIGHT
TZOFFSETFROM:+0100
TZOFFSETTO:+0200
TZNAME:CEST
DTSTART:20220327T010000
END:DAYLIGHT
BEGIN:STANDARD
TZOFFSETFROM:+0200
TZOFFSETTO:+0100
TZNAME:CET
DTSTART:20221030T010000
END:STANDARD
BEGIN:DAYLIGHT
TZOFFSETFROM:+0100
TZOFFSETTO:+0200
TZNAME:CEST
DTSTART:20230326T010000
END:DAYLIGHT
BEGIN:STANDARD
TZOFFSETFROM:+0200
TZOFFSETTO:+0100
TZNAME:CET
DTSTART:20231029T010000
END:STANDARD
END:VTIMEZONE
BEGIN:VEVENT
DTSTART;VALUE=DATE:20220411
DTEND;VALUE=DATE:20220415
DTSTAMP:20260426T010113
CREATED:20220316T161050Z
LAST-MODIFIED:20220316T162224Z
UID:29603-1649635200-1649980799@www.kommunale-koordinierung.com
SUMMARY:Coding@HSNR - Osterferiencampus für Schüler*innen ab 13 der Hochschule Niederrhein Standort Krefeld
DESCRIPTION:In der Event-Reihe Coding@HSNR können Schülerinnen und Schüler ab 13 Jahren anhand von spannenden Projekten (z.B. Webseiten\, Alarmanlagen\, Smart-Homesteuerung\, Handy Apps) mit dem Raspberry PI das Programmieren erlernen oder bestehende Kenntnisse ausbauen. \nInhaltlich ist die Coding School nicht zwingend auf eine ganz konkrete Programmiersprache festgelegt. Neben Shellskripting (BASH)\, Python und C versuchen wir Eure individuellen Interessen für eine vielleicht ganz andere Programmiersprache zu berücksichtigen. \nEs wird darüber hinaus keinen Frontalunterricht geben! Stattdessen werden Euch Studierende aus der Informatik mit Rat und Tat zur Seite stehen. \nNatürlich wird nicht nur gelernt! Es wird ein spannendes Rahmenprogramm mit Virtual Reality Sessions\, Besuch in unserem Makerspace und unserem beliebten Hacker-Spiel – „Hack-me-if-you-can“ geben! \nAußerdem startet die Coding School zeitgleich mit unserem regulären Semesterbetrieb\, so dass Ihr wie normale Studierende bei uns im Fachbereich Elektrotechnik und Informatik mit dabei seid! \nUnsicher ? Keine Angst – hier kann jeder Programmieren lernen! \nWenn Du Lust hast nette Leute und faszinierende Themen rund um das Programmieren kennenzulernen und sehen möchtest wie es an einer Hochschule so ist\, dann bist Du bei uns genau richtig! \nWann und wo? Osterferien 2022 – Standort Krefeld\n\nWann: Mo\, 11.04.22 bis Do\, 14.04.22  (9 bis 15 Uhr\, Tag 4 bis 13 Uhr)\n\nWo: Fachbereich 03 – Elektrotechnik und Informatik \nRahmenbedingungen: Mindestalter\, 13 Jahre; Teilnahme ist kostenlos\n\nCorona Informationen: Derzeit ist der Zugang nur mit entsprechender Berechtigungskarte und Impf-/Testnachweis möglich.\nEine Berechtigungskarte erhalten Sie am ersten Tag der Veranstaltung.\n\nAnmeldung unter: coding@hsnr.de
URL:https://www.kommunale-koordinierung.com/event/codinghsnr-osterferiencampus-fuer-schuelerinnen-ab-13-der-hochschule-niederrhein-standort-krefeld/
CATEGORIES:Berufliche Orientierung,Eltern & Teens
END:VEVENT
END:VCALENDAR