BEGIN:VCALENDAR
VERSION:2.0
PRODID:-//Kommunale Koordinierung - ECPv6.15.20//NONSGML v1.0//EN
CALSCALE:GREGORIAN
METHOD:PUBLISH
X-WR-CALNAME:Kommunale Koordinierung
X-ORIGINAL-URL:https://www.kommunale-koordinierung.com
X-WR-CALDESC:Veranstaltungen für Kommunale Koordinierung
REFRESH-INTERVAL;VALUE=DURATION:PT1H
X-Robots-Tag:noindex
X-PUBLISHED-TTL:PT1H
BEGIN:VTIMEZONE
TZID:Europe/Berlin
BEGIN:DAYLIGHT
TZOFFSETFROM:+0100
TZOFFSETTO:+0200
TZNAME:CEST
DTSTART:20210328T010000
END:DAYLIGHT
BEGIN:STANDARD
TZOFFSETFROM:+0200
TZOFFSETTO:+0100
TZNAME:CET
DTSTART:20211031T010000
END:STANDARD
BEGIN:DAYLIGHT
TZOFFSETFROM:+0100
TZOFFSETTO:+0200
TZNAME:CEST
DTSTART:20220327T010000
END:DAYLIGHT
BEGIN:STANDARD
TZOFFSETFROM:+0200
TZOFFSETTO:+0100
TZNAME:CET
DTSTART:20221030T010000
END:STANDARD
BEGIN:DAYLIGHT
TZOFFSETFROM:+0100
TZOFFSETTO:+0200
TZNAME:CEST
DTSTART:20230326T010000
END:DAYLIGHT
BEGIN:STANDARD
TZOFFSETFROM:+0200
TZOFFSETTO:+0100
TZNAME:CET
DTSTART:20231029T010000
END:STANDARD
END:VTIMEZONE
BEGIN:VEVENT
DTSTART;VALUE=DATE:20220404
DTEND;VALUE=DATE:20220407
DTSTAMP:20260425T232859
CREATED:20210614T083317Z
LAST-MODIFIED:20210614T083317Z
UID:21209-1649030400-1649289599@www.kommunale-koordinierung.com
SUMMARY:Düsseldorfer Tage der Beruflichen Orientierung 2022
DESCRIPTION:Die DTBO finden 2022 vom 01.04.-06.04. statt! \nWeitere Informationen finden Sie unter:\nwww.berufsorientierungstage.de
URL:https://www.kommunale-koordinierung.com/event/duesseldorfer-tage-der-beruflichen-orientierung-2022-2/
CATEGORIES:Berufliche Orientierung,Eltern & Teens,Schulen,Unternehmen
END:VEVENT
BEGIN:VEVENT
DTSTART;TZID=Europe/Berlin:20220406T163000
DTEND;TZID=Europe/Berlin:20220406T183000
DTSTAMP:20260425T232859
CREATED:20211001T112635Z
LAST-MODIFIED:20220325T105704Z
UID:25214-1649262600-1649269800@www.kommunale-koordinierung.com
SUMMARY:Eltern-Navigator: Wie findet mein Kind den Weg in die Ausbildung?
DESCRIPTION:Das Handwerk bietet 130 Ausbildungsberufe und viele verschiedene Karrieremöglichkeiten. Eltern stellen sich oft Fragen wie Welche Möglichkeiten hat mein Kind? Welche Ausbildung passt zu meinem\nKind? Wie kann ich mein Kind optimal begleiten? Die Handwerkskammer Düsseldorf bietet zu diesen Themen eine Sprechstunde für Eltern an. \nEine Anmeldung ist nicht erforderlich\, Interessierte können sich telefonisch/per WhatsApp/per E-Mail an die Berater*innen wenden. Gerne kann auch ein Online-Beratungsgespräch vereinbart werden. \nMehr Infos unter:\nEltern-Navigator
URL:https://www.kommunale-koordinierung.com/event/eltern-navigator-wie-findet-mein-kind-den-weg-in-die-ausbildung-8/
CATEGORIES:Berufliche Orientierung,Eltern & Teens
END:VEVENT
BEGIN:VEVENT
DTSTART;TZID=Europe/Berlin:20220406T183000
DTEND;TZID=Europe/Berlin:20220406T191500
DTSTAMP:20260425T232859
CREATED:20220218T111502Z
LAST-MODIFIED:20220222T125145Z
UID:28313-1649269800-1649272500@www.kommunale-koordinierung.com
SUMMARY:Virtuelle Betriebserkundung für Eltern und Jugendliche - die Stadtwerke Düsseldorf stellen sich vor!
DESCRIPTION:Mit dieser digitalen\, abendlichen Veranstaltungsreihe\, in der Düsseldorfer Unternehmen und ihre Nachwuchskräfte die eigenen Ausbildungsmöglichkeiten anschaulich und kurzweilig vorstellen\, möchten wir Sie als Eltern oder interessierte Jugendliche mit hilfreichen Informationen zum Thema Berufsorientierung unterstützen. \nSie möchten sich bequem von zu Hause aus über die Ausbildungsmöglichkeiten Düsseldorfer Unternehmen informieren? \nDann sind Sie herzlich zu folgender kostenfreien Veranstaltung eingeladen! \nModeriert und begleitet wird die Veranstaltung von dem Team Kompetenzzentrum Berufliche Orientierung & der Kommunalen Koordinierung Düsseldorf. \nDen entsprechenden Link zur Veranstaltung erhalten Sie nach Ihrer Anmeldung. \nDie Veranstaltungen finden virtuell über Microsoft Teams statt. Sie benötigen lediglich einen Computer oder ein mobiles Endgerät. \nVorname *Nachname *Schule/Institution *E-Mail Adresse *DGSVO *Ja\, ich stimme den Datenschutzbestimmungen zu. Nachricht senden
URL:https://www.kommunale-koordinierung.com/event/virtuelle-betriebserkundung-fuer-eltern-und-jugendliche-die-stadtwerke-duesseldorf-stellen-sich-vor/
LOCATION:Online
CATEGORIES:Berufliche Orientierung,Eltern & Teens
END:VEVENT
END:VCALENDAR