BEGIN:VCALENDAR
VERSION:2.0
PRODID:-//Kommunale Koordinierung - ECPv6.15.20//NONSGML v1.0//EN
CALSCALE:GREGORIAN
METHOD:PUBLISH
X-WR-CALNAME:Kommunale Koordinierung
X-ORIGINAL-URL:https://www.kommunale-koordinierung.com
X-WR-CALDESC:Veranstaltungen für Kommunale Koordinierung
REFRESH-INTERVAL;VALUE=DURATION:PT1H
X-Robots-Tag:noindex
X-PUBLISHED-TTL:PT1H
BEGIN:VTIMEZONE
TZID:Europe/Berlin
BEGIN:DAYLIGHT
TZOFFSETFROM:+0100
TZOFFSETTO:+0200
TZNAME:CEST
DTSTART:20210328T010000
END:DAYLIGHT
BEGIN:STANDARD
TZOFFSETFROM:+0200
TZOFFSETTO:+0100
TZNAME:CET
DTSTART:20211031T010000
END:STANDARD
BEGIN:DAYLIGHT
TZOFFSETFROM:+0100
TZOFFSETTO:+0200
TZNAME:CEST
DTSTART:20220327T010000
END:DAYLIGHT
BEGIN:STANDARD
TZOFFSETFROM:+0200
TZOFFSETTO:+0100
TZNAME:CET
DTSTART:20221030T010000
END:STANDARD
BEGIN:DAYLIGHT
TZOFFSETFROM:+0100
TZOFFSETTO:+0200
TZNAME:CEST
DTSTART:20230326T010000
END:DAYLIGHT
BEGIN:STANDARD
TZOFFSETFROM:+0200
TZOFFSETTO:+0100
TZNAME:CET
DTSTART:20231029T010000
END:STANDARD
END:VTIMEZONE
BEGIN:VEVENT
DTSTART;VALUE=DATE:20220404
DTEND;VALUE=DATE:20220407
DTSTAMP:20260425T232902
CREATED:20210614T083317Z
LAST-MODIFIED:20210614T083317Z
UID:21209-1649030400-1649289599@www.kommunale-koordinierung.com
SUMMARY:Düsseldorfer Tage der Beruflichen Orientierung 2022
DESCRIPTION:Die DTBO finden 2022 vom 01.04.-06.04. statt! \nWeitere Informationen finden Sie unter:\nwww.berufsorientierungstage.de
URL:https://www.kommunale-koordinierung.com/event/duesseldorfer-tage-der-beruflichen-orientierung-2022-2/
CATEGORIES:Berufliche Orientierung,Eltern & Teens,Schulen,Unternehmen
END:VEVENT
BEGIN:VEVENT
DTSTART;TZID=Europe/Berlin:20220404T100000
DTEND;TZID=Europe/Berlin:20220404T130000
DTSTAMP:20260425T232902
CREATED:20211203T072704Z
LAST-MODIFIED:20220429T052320Z
UID:26308-1649066400-1649077200@www.kommunale-koordinierung.com
SUMMARY:Azubi-Speeddating der Handwerkskammer
DESCRIPTION:Die Handwerkskammer Düsseldorf ermöglicht mit dem Azubi-Speeddating das 6. Jahr in Folge das persönliche Kennenlernen von Azubis und Betrieben. \nHandwerksbetriebe präsentieren sich und ihr Ausbildungsangebot für Sommer 2022 in der Handwerkskammer und stehen an ihren Beratungsständen für kurze Bewerbungsgespräche zur Verfügung. \nAuch Praktikumsstellen und Duale/Triale Studienplätze werden angeboten.
URL:https://www.kommunale-koordinierung.com/event/azubi-speeddating-der-handwerkskammer/
LOCATION:Handwerkskammer Düsseldorf\, Georg-Schulhoff-Platz 1\, Düsseldorf\, 40221\, Deutschland
CATEGORIES:Berufliche Orientierung,Eltern & Teens,Lehrkräfte,Messe
END:VEVENT
END:VCALENDAR