BEGIN:VCALENDAR
VERSION:2.0
PRODID:-//Kommunale Koordinierung - ECPv6.15.20//NONSGML v1.0//EN
CALSCALE:GREGORIAN
METHOD:PUBLISH
X-ORIGINAL-URL:https://www.kommunale-koordinierung.com
X-WR-CALDESC:Veranstaltungen für Kommunale Koordinierung
REFRESH-INTERVAL;VALUE=DURATION:PT1H
X-Robots-Tag:noindex
X-PUBLISHED-TTL:PT1H
BEGIN:VTIMEZONE
TZID:Europe/Berlin
BEGIN:DAYLIGHT
TZOFFSETFROM:+0100
TZOFFSETTO:+0200
TZNAME:CEST
DTSTART:20210328T010000
END:DAYLIGHT
BEGIN:STANDARD
TZOFFSETFROM:+0200
TZOFFSETTO:+0100
TZNAME:CET
DTSTART:20211031T010000
END:STANDARD
BEGIN:DAYLIGHT
TZOFFSETFROM:+0100
TZOFFSETTO:+0200
TZNAME:CEST
DTSTART:20220327T010000
END:DAYLIGHT
BEGIN:STANDARD
TZOFFSETFROM:+0200
TZOFFSETTO:+0100
TZNAME:CET
DTSTART:20221030T010000
END:STANDARD
BEGIN:DAYLIGHT
TZOFFSETFROM:+0100
TZOFFSETTO:+0200
TZNAME:CEST
DTSTART:20230326T010000
END:DAYLIGHT
BEGIN:STANDARD
TZOFFSETFROM:+0200
TZOFFSETTO:+0100
TZNAME:CET
DTSTART:20231029T010000
END:STANDARD
END:VTIMEZONE
BEGIN:VEVENT
DTSTART;TZID=Europe/Berlin:20220402T100000
DTEND;TZID=Europe/Berlin:20220402T160000
DTSTAMP:20260425T233152
CREATED:20211014T094337Z
LAST-MODIFIED:20220704T132100Z
UID:25781-1648893600-1648915200@www.kommunale-koordinierung.com
SUMMARY:Einstieg Köln - Messe für Ausbildung\, Studium und Gap-Year
DESCRIPTION:Komm vorbei und informiere dich bei den Aussteller*innen vor Ort zu Studium\, Ausbildung\, Gap-Year u. v. m. \nZahlreiche Ausbildungsstellen und Studienplätze warten auf dich! Zudem gibt es Infos aus erster Hand von Expert*innen\, Azubis und Studierenden und du kannst Berufsfelder und Studiengänge kennenlernen und offene Fragen klären. \nWeitere Infos unter:\nwww.einstieg.com/messen/einstieg-koeln.html
URL:https://www.kommunale-koordinierung.com/event/einstieg-koeln-messe-fuer-ausbildung-studium-und-gap-year-2/
LOCATION:Kölnmesse\, Messeplatz 1\, Köln\, Deutschland
CATEGORIES:Berufliche Orientierung,Eltern & Teens,Messe
END:VEVENT
END:VCALENDAR