BEGIN:VCALENDAR
VERSION:2.0
PRODID:-//Kommunale Koordinierung - ECPv6.15.20//NONSGML v1.0//EN
CALSCALE:GREGORIAN
METHOD:PUBLISH
X-WR-CALNAME:Kommunale Koordinierung
X-ORIGINAL-URL:https://www.kommunale-koordinierung.com
X-WR-CALDESC:Veranstaltungen für Kommunale Koordinierung
REFRESH-INTERVAL;VALUE=DURATION:PT1H
X-Robots-Tag:noindex
X-PUBLISHED-TTL:PT1H
BEGIN:VTIMEZONE
TZID:Europe/Berlin
BEGIN:DAYLIGHT
TZOFFSETFROM:+0100
TZOFFSETTO:+0200
TZNAME:CEST
DTSTART:20210328T010000
END:DAYLIGHT
BEGIN:STANDARD
TZOFFSETFROM:+0200
TZOFFSETTO:+0100
TZNAME:CET
DTSTART:20211031T010000
END:STANDARD
BEGIN:DAYLIGHT
TZOFFSETFROM:+0100
TZOFFSETTO:+0200
TZNAME:CEST
DTSTART:20220327T010000
END:DAYLIGHT
BEGIN:STANDARD
TZOFFSETFROM:+0200
TZOFFSETTO:+0100
TZNAME:CET
DTSTART:20221030T010000
END:STANDARD
BEGIN:DAYLIGHT
TZOFFSETFROM:+0100
TZOFFSETTO:+0200
TZNAME:CEST
DTSTART:20230326T010000
END:DAYLIGHT
BEGIN:STANDARD
TZOFFSETFROM:+0200
TZOFFSETTO:+0100
TZNAME:CET
DTSTART:20231029T010000
END:STANDARD
END:VTIMEZONE
BEGIN:VEVENT
DTSTART;VALUE=DATE:20220331
DTEND;VALUE=DATE:20220401
DTSTAMP:20260425T234331
CREATED:20220304T090602Z
LAST-MODIFIED:20250818T105102Z
UID:28555-1648684800-1648771199@www.kommunale-koordinierung.com
SUMMARY:Ein Tag Azubi – Frühjahrsspecial
DESCRIPTION:Der Tag wird von ehrenamtlich tätigen Wirtschaftsjunior*innen durchgeführt und dient der Unterstützung junger Menschen bei der Berufsorientierung\, gerade wo durch die Pandemie viele Berufsorientierungsangebote – wie Schülerpraktika\, Berufsmessen uvm. – weggefallen sind. \nUnterstützt werden die Wirtschaftsjunior*innen von ihrem Kooperationspartner www.pilotschulen.de\, der den Aktionstag bereits mehrfach in Thüringen erfolgreich umgesetzt hat. Die Plattform bietet Schulen einen datenschutzkonformen Zugang für eine Onlineteilnahme. \nAm 31.03.2022 wird es insgesamt 3 Vorstellungsrunden von Ausbildungsberufen in digitalisierter Form geben:\nVormittags (im Klassenverbund): 10:00 – 10:45 Uhr und 11:00 – 11:45 Uhr\nNachmittags (zu Hause): 18:00 – 18:45 Uhr \nJeweils um 13:00 Uhr und 19:00 Uhr wird zusätzlich ein Mini-Berufscoaching angeboten. \nWeitere Informationen gibt es unter:\nwww.pilotschulen.de/ein-tag-azubi-fr%C3%BChling
URL:https://www.kommunale-koordinierung.com/event/ein-tag-azubi-fruehjahrsspecial/
LOCATION:Online
CATEGORIES:Berufliche Orientierung,Lehrkräfte,Schulen
END:VEVENT
END:VCALENDAR