BEGIN:VCALENDAR
VERSION:2.0
PRODID:-//Kommunale Koordinierung - ECPv6.15.20//NONSGML v1.0//EN
CALSCALE:GREGORIAN
METHOD:PUBLISH
X-ORIGINAL-URL:https://www.kommunale-koordinierung.com
X-WR-CALDESC:Veranstaltungen für Kommunale Koordinierung
REFRESH-INTERVAL;VALUE=DURATION:PT1H
X-Robots-Tag:noindex
X-PUBLISHED-TTL:PT1H
BEGIN:VTIMEZONE
TZID:Europe/Berlin
BEGIN:DAYLIGHT
TZOFFSETFROM:+0100
TZOFFSETTO:+0200
TZNAME:CEST
DTSTART:20210328T010000
END:DAYLIGHT
BEGIN:STANDARD
TZOFFSETFROM:+0200
TZOFFSETTO:+0100
TZNAME:CET
DTSTART:20211031T010000
END:STANDARD
BEGIN:DAYLIGHT
TZOFFSETFROM:+0100
TZOFFSETTO:+0200
TZNAME:CEST
DTSTART:20220327T010000
END:DAYLIGHT
BEGIN:STANDARD
TZOFFSETFROM:+0200
TZOFFSETTO:+0100
TZNAME:CET
DTSTART:20221030T010000
END:STANDARD
BEGIN:DAYLIGHT
TZOFFSETFROM:+0100
TZOFFSETTO:+0200
TZNAME:CEST
DTSTART:20230326T010000
END:DAYLIGHT
BEGIN:STANDARD
TZOFFSETFROM:+0200
TZOFFSETTO:+0100
TZNAME:CET
DTSTART:20231029T010000
END:STANDARD
END:VTIMEZONE
BEGIN:VEVENT
DTSTART;TZID=Europe/Berlin:20220323T133000
DTEND;TZID=Europe/Berlin:20220323T143000
DTSTAMP:20260426T011013
CREATED:20220228T120433Z
LAST-MODIFIED:20250321T115419Z
UID:28443-1648042200-1648045800@www.kommunale-koordinierung.com
SUMMARY:Girls'Day/Boys'Day - Vorbereitung für Lehrkräfte
DESCRIPTION:Im Rahmen des einstündigen Info-Termins stellt die Bundeskoordinierungsstelle des Girls’Days/Boys’Days die beiden Aktionstage vor und geht auf die organisatorischen Rahmenbedingungen ein. \nEin Großteil der Veranstaltung widmet sich zudem der Einführung in das neue Unterrichtsmaterial\, damit dieses ohne großen Zeitaufwand im Unterricht eingesetzt werden kann.
URL:https://www.kommunale-koordinierung.com/event/girlsday-boysday-vorbereitung-fuer-lehrkraefte-2/
LOCATION:Online
CATEGORIES:Berufliche Orientierung,Lehrkräfte
END:VEVENT
END:VCALENDAR