BEGIN:VCALENDAR
VERSION:2.0
PRODID:-//Kommunale Koordinierung - ECPv6.15.20//NONSGML v1.0//EN
CALSCALE:GREGORIAN
METHOD:PUBLISH
X-WR-CALNAME:Kommunale Koordinierung
X-ORIGINAL-URL:https://www.kommunale-koordinierung.com
X-WR-CALDESC:Veranstaltungen für Kommunale Koordinierung
REFRESH-INTERVAL;VALUE=DURATION:PT1H
X-Robots-Tag:noindex
X-PUBLISHED-TTL:PT1H
BEGIN:VTIMEZONE
TZID:Europe/Berlin
BEGIN:DAYLIGHT
TZOFFSETFROM:+0100
TZOFFSETTO:+0200
TZNAME:CEST
DTSTART:20210328T010000
END:DAYLIGHT
BEGIN:STANDARD
TZOFFSETFROM:+0200
TZOFFSETTO:+0100
TZNAME:CET
DTSTART:20211031T010000
END:STANDARD
BEGIN:DAYLIGHT
TZOFFSETFROM:+0100
TZOFFSETTO:+0200
TZNAME:CEST
DTSTART:20220327T010000
END:DAYLIGHT
BEGIN:STANDARD
TZOFFSETFROM:+0200
TZOFFSETTO:+0100
TZNAME:CET
DTSTART:20221030T010000
END:STANDARD
BEGIN:DAYLIGHT
TZOFFSETFROM:+0100
TZOFFSETTO:+0200
TZNAME:CEST
DTSTART:20230326T010000
END:DAYLIGHT
BEGIN:STANDARD
TZOFFSETFROM:+0200
TZOFFSETTO:+0100
TZNAME:CET
DTSTART:20231029T010000
END:STANDARD
END:VTIMEZONE
BEGIN:VEVENT
DTSTART;TZID=Europe/Berlin:20220321T130000
DTEND;TZID=Europe/Berlin:20220321T150000
DTSTAMP:20260426T010700
CREATED:20220228T115308Z
LAST-MODIFIED:20220228T115308Z
UID:28436-1647867600-1647874800@www.kommunale-koordinierung.com
SUMMARY:Aktionstag BerufsAbitur Köln
DESCRIPTION:BerufsAbitur? Was ist das? In der Veranstaltung erfährst du alles Wissenswerte rund um das BerufsAbitur und lernst attraktive Ausbildungsbetriebe im Handwerk kennen. \nAlle Infos und Vorteile vom BerufsAbitur sind auch hier im Flyer zu finden:\nFlyer BerufsAbitur
URL:https://www.kommunale-koordinierung.com/event/aktionstag-berufsabitur-koeln/
LOCATION:Handwerkskammer zu Köln\, Heumarkt 12\, Köln\, 50667
CATEGORIES:Berufliche Orientierung,Eltern & Teens
END:VEVENT
END:VCALENDAR