BEGIN:VCALENDAR
VERSION:2.0
PRODID:-//Kommunale Koordinierung - ECPv6.15.20//NONSGML v1.0//EN
CALSCALE:GREGORIAN
METHOD:PUBLISH
X-WR-CALNAME:Kommunale Koordinierung
X-ORIGINAL-URL:https://www.kommunale-koordinierung.com
X-WR-CALDESC:Veranstaltungen für Kommunale Koordinierung
REFRESH-INTERVAL;VALUE=DURATION:PT1H
X-Robots-Tag:noindex
X-PUBLISHED-TTL:PT1H
BEGIN:VTIMEZONE
TZID:Europe/Berlin
BEGIN:DAYLIGHT
TZOFFSETFROM:+0100
TZOFFSETTO:+0200
TZNAME:CEST
DTSTART:20210328T010000
END:DAYLIGHT
BEGIN:STANDARD
TZOFFSETFROM:+0200
TZOFFSETTO:+0100
TZNAME:CET
DTSTART:20211031T010000
END:STANDARD
BEGIN:DAYLIGHT
TZOFFSETFROM:+0100
TZOFFSETTO:+0200
TZNAME:CEST
DTSTART:20220327T010000
END:DAYLIGHT
BEGIN:STANDARD
TZOFFSETFROM:+0200
TZOFFSETTO:+0100
TZNAME:CET
DTSTART:20221030T010000
END:STANDARD
BEGIN:DAYLIGHT
TZOFFSETFROM:+0100
TZOFFSETTO:+0200
TZNAME:CEST
DTSTART:20230326T010000
END:DAYLIGHT
BEGIN:STANDARD
TZOFFSETFROM:+0200
TZOFFSETTO:+0100
TZNAME:CET
DTSTART:20231029T010000
END:STANDARD
END:VTIMEZONE
BEGIN:VEVENT
DTSTART;TZID=Europe/Berlin:20220315T140000
DTEND;TZID=Europe/Berlin:20220315T150000
DTSTAMP:20260426T010830
CREATED:20220304T083544Z
LAST-MODIFIED:20241114T131246Z
UID:28544-1647352800-1647356400@www.kommunale-koordinierung.com
SUMMARY:Praxisnah studieren: Duales Studium bei der Bundesagentur für Arbeit - jetzt informieren!
DESCRIPTION:Werde auch du Teil des größten Netzwerkes am Arbeitsmarkt\, der Bundesagentur für Arbeit und bringe Menschen weiter! \nVereine Theorie und Praxis und sichere dir eine attraktive monatliche Vergütung\, Jahressonderzahlungen\, ein Auslandspraktikum und vieles mehr. \nGewinne tiefere Einblicke in unsere dualen Studiengänge und finde mit uns gemeinsam heraus\, ob unsere Studiengänge die passenden für deine Zukunft sind! Als Ehrengäste begrüßen wir drei aktuell Studierende\, die dir aus erster Hand aus der Praxis berichten können. \nDie Online-Veranstaltung findet am 15.03.2022 von 14:00 Uhr bis 15:00 Uhr statt. \nHinweise zur Anmeldung:\nDie Teilnahme an der Veranstaltung ist kostenlos\, eine Anmeldung ist unter: Duesseldorf.Personalentwicklung@Arbeitsagentur.de erforderlich. Die Einwahldaten erhältst du im Anschluss per E-Mail von uns. Ansprechpartnerin: Frau Hannah Merkel\, Tel.: 0211-692 1244 \nWeitere Informationen gibt es unter:\nwww.arbeitsagentur.de/vor-ort/duesseldorf/woche-der-ausbildung
URL:https://www.kommunale-koordinierung.com/event/praxisnah-studieren-duales-studium-bei-der-bundesagentur-fuer-arbeit-jetzt-informieren/
LOCATION:Online
CATEGORIES:Berufliche Orientierung,Eltern & Teens
END:VEVENT
END:VCALENDAR