BEGIN:VCALENDAR
VERSION:2.0
PRODID:-//Kommunale Koordinierung - ECPv6.15.20//NONSGML v1.0//EN
CALSCALE:GREGORIAN
METHOD:PUBLISH
X-WR-CALNAME:Kommunale Koordinierung
X-ORIGINAL-URL:https://www.kommunale-koordinierung.com
X-WR-CALDESC:Veranstaltungen für Kommunale Koordinierung
REFRESH-INTERVAL;VALUE=DURATION:PT1H
X-Robots-Tag:noindex
X-PUBLISHED-TTL:PT1H
BEGIN:VTIMEZONE
TZID:Europe/Berlin
BEGIN:DAYLIGHT
TZOFFSETFROM:+0100
TZOFFSETTO:+0200
TZNAME:CEST
DTSTART:20210328T010000
END:DAYLIGHT
BEGIN:STANDARD
TZOFFSETFROM:+0200
TZOFFSETTO:+0100
TZNAME:CET
DTSTART:20211031T010000
END:STANDARD
BEGIN:DAYLIGHT
TZOFFSETFROM:+0100
TZOFFSETTO:+0200
TZNAME:CEST
DTSTART:20220327T010000
END:DAYLIGHT
BEGIN:STANDARD
TZOFFSETFROM:+0200
TZOFFSETTO:+0100
TZNAME:CET
DTSTART:20221030T010000
END:STANDARD
BEGIN:DAYLIGHT
TZOFFSETFROM:+0100
TZOFFSETTO:+0200
TZNAME:CEST
DTSTART:20230326T010000
END:DAYLIGHT
BEGIN:STANDARD
TZOFFSETFROM:+0200
TZOFFSETTO:+0100
TZNAME:CET
DTSTART:20231029T010000
END:STANDARD
END:VTIMEZONE
BEGIN:VEVENT
DTSTART;TZID=Europe/Berlin:20220307T190000
DTEND;TZID=Europe/Berlin:20220307T203000
DTSTAMP:20260426T010711
CREATED:20220214T090303Z
LAST-MODIFIED:20220214T090435Z
UID:28166-1646679600-1646685000@www.kommunale-koordinierung.com
SUMMARY:Elternveranstaltung: Die duale Berufsausbildung als Chance für eine berufliche Karriere
DESCRIPTION:Im Rahmen der Beruflichen Orientierung lädt Frau Ministerin Yvonne Gebauer die Eltern der Schülerinnen und Schüler der Abgangsklassen\, aber natürlich auch interessierte Schülerinnen und Schüler und weitere interessierte Eltern zu einer digitalen Informationsveranstaltung zu den Karrierechancen im dualen System ein. \nGemeinsam mit hochrangigen Vertreterinnen und Vertretern von Kammerorganisationen\, Unternehmer nrw\, dem Deutschen Gewerkschaftsbund und der Regionaldirektion NRW der Bundesagentur für Arbeit wird in dieser Veranstaltung über das System der dualen Ausbildung\, den damit verbundenen vielfältigen Möglichkeiten und vieles mehr informiert. \nExpertinnen und Experten beantworten Fragen\, welche die Zuschauer in einem Chat stellen können. \nFlyer und Zugangsdaten
URL:https://www.kommunale-koordinierung.com/event/elternveranstaltung-die-duale-berufsausbildung-als-chance-fuer-eine-berufliche-karriere/
LOCATION:Online
CATEGORIES:Berufliche Orientierung,Eltern & Teens
END:VEVENT
END:VCALENDAR