BEGIN:VCALENDAR
VERSION:2.0
PRODID:-//Kommunale Koordinierung - ECPv6.15.20//NONSGML v1.0//EN
CALSCALE:GREGORIAN
METHOD:PUBLISH
X-ORIGINAL-URL:https://www.kommunale-koordinierung.com
X-WR-CALDESC:Veranstaltungen für Kommunale Koordinierung
REFRESH-INTERVAL;VALUE=DURATION:PT1H
X-Robots-Tag:noindex
X-PUBLISHED-TTL:PT1H
BEGIN:VTIMEZONE
TZID:Europe/Berlin
BEGIN:DAYLIGHT
TZOFFSETFROM:+0100
TZOFFSETTO:+0200
TZNAME:CEST
DTSTART:20210328T010000
END:DAYLIGHT
BEGIN:STANDARD
TZOFFSETFROM:+0200
TZOFFSETTO:+0100
TZNAME:CET
DTSTART:20211031T010000
END:STANDARD
BEGIN:DAYLIGHT
TZOFFSETFROM:+0100
TZOFFSETTO:+0200
TZNAME:CEST
DTSTART:20220327T010000
END:DAYLIGHT
BEGIN:STANDARD
TZOFFSETFROM:+0200
TZOFFSETTO:+0100
TZNAME:CET
DTSTART:20221030T010000
END:STANDARD
BEGIN:DAYLIGHT
TZOFFSETFROM:+0100
TZOFFSETTO:+0200
TZNAME:CEST
DTSTART:20230326T010000
END:DAYLIGHT
BEGIN:STANDARD
TZOFFSETFROM:+0200
TZOFFSETTO:+0100
TZNAME:CET
DTSTART:20231029T010000
END:STANDARD
END:VTIMEZONE
BEGIN:VEVENT
DTSTART;TZID=Europe/Berlin:20220217T140000
DTEND;TZID=Europe/Berlin:20220217T160000
DTSTAMP:20260426T024607
CREATED:20220201T111756Z
LAST-MODIFIED:20220201T111850Z
UID:27910-1645106400-1645113600@www.kommunale-koordinierung.com
SUMMARY:StuBo-Arbeitskreis der Realschulen am Do.\, 17.02.22 (online)
DESCRIPTION:Die nächste Sitzung des StuBo-Arbeitskreises der Realschulen findet online über Microsoft Teams statt. \nAlle Düsseldorfer Realschulen sind herzlich zu dem StuBo-Arbeitskreis eingeladen. \nOffizielle Einladung und Zugangsdaten \nBitte melden Sie sich unten für die Veranstaltung an. \nBei Fragen oder Themenwünschen wenden Sie sich bitte an:\nEzgi Yildiz\nTelefon: 0211 669 08 22\nE-Mail: yildiz@unternehmerschaft.de \nDer Arbeitskreis ist eine gemeinsame Veranstaltung der Kommunalen Koordinierung Düsseldorf und des Kompetenzzentrums Berufliche Orientierung mit der Schulaufsicht der Landeshauptstadt Düsseldorf. \nVorname *Nachname *Schule/Institution *E-Mail Adresse *GDPR *Ja\, ich bin mit den Datenschutzbestimmungen einverstanden.Nachricht senden
URL:https://www.kommunale-koordinierung.com/event/stubo-arbeitskreis-der-realschulen-am-do-17-02-22-online/
CATEGORIES:Berufliche Orientierung,Lehrkräfte,StuBo-Arbeitskreis,StuBos
END:VEVENT
END:VCALENDAR