BEGIN:VCALENDAR
VERSION:2.0
PRODID:-//Kommunale Koordinierung - ECPv6.15.20//NONSGML v1.0//EN
CALSCALE:GREGORIAN
METHOD:PUBLISH
X-WR-CALNAME:Kommunale Koordinierung
X-ORIGINAL-URL:https://www.kommunale-koordinierung.com
X-WR-CALDESC:Veranstaltungen für Kommunale Koordinierung
REFRESH-INTERVAL;VALUE=DURATION:PT1H
X-Robots-Tag:noindex
X-PUBLISHED-TTL:PT1H
BEGIN:VTIMEZONE
TZID:Europe/Berlin
BEGIN:DAYLIGHT
TZOFFSETFROM:+0100
TZOFFSETTO:+0200
TZNAME:CEST
DTSTART:20210328T010000
END:DAYLIGHT
BEGIN:STANDARD
TZOFFSETFROM:+0200
TZOFFSETTO:+0100
TZNAME:CET
DTSTART:20211031T010000
END:STANDARD
BEGIN:DAYLIGHT
TZOFFSETFROM:+0100
TZOFFSETTO:+0200
TZNAME:CEST
DTSTART:20220327T010000
END:DAYLIGHT
BEGIN:STANDARD
TZOFFSETFROM:+0200
TZOFFSETTO:+0100
TZNAME:CET
DTSTART:20221030T010000
END:STANDARD
BEGIN:DAYLIGHT
TZOFFSETFROM:+0100
TZOFFSETTO:+0200
TZNAME:CEST
DTSTART:20230326T010000
END:DAYLIGHT
BEGIN:STANDARD
TZOFFSETFROM:+0200
TZOFFSETTO:+0100
TZNAME:CET
DTSTART:20231029T010000
END:STANDARD
END:VTIMEZONE
BEGIN:VEVENT
DTSTART;VALUE=DATE:20220117
DTEND;VALUE=DATE:20220205
DTSTAMP:20260426T042058
CREATED:20211215T111319Z
LAST-MODIFIED:20230208T075211Z
UID:26408-1642377600-1644019199@www.kommunale-koordinierung.com
SUMMARY:Wochen der Studienorientierung an der Hochschule Niederrhein
DESCRIPTION:Drei Wochen lang\, vom 17.01. bis zum 04.02.2022\, habt ihr die Gelegenheit\, die Hochschule Niederrhein und ihr Studienangebot genauer kennenzulernen. \nDie Hochschule Niederrhein bietet auch diesmal ein vielfältiges Programm an. Euch erwarten Einblicke in die Fachbereiche\, Workshops\, Vorträge und Schnuppervorlesungen! \nAlle Angebote werden voraussichtlich als Online-Format stattfinden (Änderungen sind vorbehalten). \n 
URL:https://www.kommunale-koordinierung.com/event/wochen-der-studienorientierung-an-der-hochschule-niederrhein/
LOCATION:Online
CATEGORIES:Berufliche Orientierung,Eltern & Teens,Studienorientierung
END:VEVENT
BEGIN:VEVENT
DTSTART;TZID=Europe/Berlin:20220117T080000
DTEND;TZID=Europe/Berlin:20220204T170000
DTSTAMP:20260426T042058
CREATED:20211012T101219Z
LAST-MODIFIED:20230710T072441Z
UID:25731-1642406400-1643994000@www.kommunale-koordinierung.com
SUMMARY:Wochen der Studienorientierung an der HSD
DESCRIPTION:Die Wochen der Studienorientierung finden einmal jährlich zum Jahresbeginn statt.​ Eine gute Gelegenheit um Campus-Luft zu schnuppern. \nDas Programm der HSD besteht in der Regel aus folgenden Veranstaltungen: \n– Veranstaltungsreihe „5 Tage an der HSD – Die Hochschule stellt sich vor“\n– Online-Studienwahlworkshop\n– „Virtuelle Campus-Woche“ bzw. Tag der offenen Tür \nDarüber hinaus können Interessierte regelmäßig Veranstaltungen aus dem Vorlesungsverzeichnis für Studieninteressierte besuchen.
URL:https://www.kommunale-koordinierung.com/event/wochen-der-studienorientierung-an-der-hsd/
END:VEVENT
BEGIN:VEVENT
DTSTART;VALUE=DATE:20220119
DTEND;VALUE=DATE:20220125
DTSTAMP:20260426T042058
CREATED:20210308T062130Z
LAST-MODIFIED:20220304T114945Z
UID:15361-1642550400-1643068799@www.kommunale-koordinierung.com
SUMMARY:JOBMEDI Düsseldorf digital
DESCRIPTION:Die JOBMEDI digital ist für all jene\, die ihre berufliche Zukunft in der Gesundheits- & Sozialbranche sehen\, die perfekte Gelegenheit\, sich über Berufsperspektiven zu informieren. Die Nachfrage in dem Bereich steigt enorm und wird auch langfristig anhalten. All jene\, die sich für einen Beruf in der Gesundheits- & Sozialbranche interessieren\, haben also gute Chancen auf einen zukunftssicheren Arbeitsplatz. Ausbildungsmöglichkeiten und Karrierewege gibt es viele unterschiedliche in diesen Bereichen. Auch Quereinsteiger*innen sind in Pflegeberufen keine Seltenheit. Die JOBMEDI digital bietet somit Perspektiven für alle Altersklassen und beschränkt sich auf das Angebot im Gesundheits-\, Pflege- und Sozialwesen. \nVon Mittwoch\, 9:00 Uhr bis Montag\, 24:00 Uhr können Sie sich auf der digitalen Messe informieren und Flyer\, Videos oder Bildergalerien durchstöbern.\nZu den Live-Zeiten am Freitag von 9 -12 Uhr und Samstag 10 – 14 Uhr können Sie mit den Aussteller*innen per Live- und Video-Chat in Kontakt treten.
URL:https://www.kommunale-koordinierung.com/event/jobmedi-duesseldorf-digital/
LOCATION:Online
CATEGORIES:Berufliche Orientierung,Eltern & Teens,Messe,Schulen
END:VEVENT
END:VCALENDAR